BEGIN:VCALENDAR
VERSION:2.0
CALSCALE:GREGORIAN
METHOD:REQUEST
BEGIN:VEVENT
UID:okky-events-1537740@okky.kr
DTSTAMP:20210605T073803Z
DTSTART;TZID=Asia/Seoul:20250728T100000
DTEND;TZID=Asia/Seoul:20250715T120020
SUMMARY:개발자의 문장력: 협업을 살리는 소프트 스킬의 힘
ORGANIZER;CN="OKKY":mailto:event@okky.kr
ATTENDEE;PARTSTAT=ACCEPTED;CN="OKKY";EMAIL=event@okky.kr:MAILTO:event@okky.kr
URL;VALUE=URI:https://okky.kr/events/webinars/1537740
LOCATION:서울 강남구 역삼로 168 팁스타운 S6 지하1층 세미나실
END:VEVENT
END:VCALENDAR
